BEGIN:VCALENDAR
VERSION:2.0
PRODID:-//Parroquia Nuestra Señora de las Americas - ECPv6.15.20//NONSGML v1.0//EN
CALSCALE:GREGORIAN
METHOD:PUBLISH
X-ORIGINAL-URL:https://americas.archimadrid.es
X-WR-CALDESC:Eventos para Parroquia Nuestra Señora de las Americas
REFRESH-INTERVAL;VALUE=DURATION:PT1H
X-Robots-Tag:noindex
X-PUBLISHED-TTL:PT1H
BEGIN:VTIMEZONE
TZID:Europe/Madrid
BEGIN:DAYLIGHT
TZOFFSETFROM:+0100
TZOFFSETTO:+0200
TZNAME:CEST
DTSTART:20240331T010000
END:DAYLIGHT
BEGIN:STANDARD
TZOFFSETFROM:+0200
TZOFFSETTO:+0100
TZNAME:CET
DTSTART:20241027T010000
END:STANDARD
BEGIN:DAYLIGHT
TZOFFSETFROM:+0100
TZOFFSETTO:+0200
TZNAME:CEST
DTSTART:20250330T010000
END:DAYLIGHT
BEGIN:STANDARD
TZOFFSETFROM:+0200
TZOFFSETTO:+0100
TZNAME:CET
DTSTART:20251026T010000
END:STANDARD
BEGIN:DAYLIGHT
TZOFFSETFROM:+0100
TZOFFSETTO:+0200
TZNAME:CEST
DTSTART:20260329T010000
END:DAYLIGHT
BEGIN:STANDARD
TZOFFSETFROM:+0200
TZOFFSETTO:+0100
TZNAME:CET
DTSTART:20261025T010000
END:STANDARD
END:VTIMEZONE
BEGIN:VEVENT
DTSTART;TZID=Europe/Madrid:20251005T000000
DTEND;TZID=Europe/Madrid:20251005T235900
DTSTAMP:20260420T154851
CREATED:20250917T161740Z
LAST-MODIFIED:20250917T161740Z
UID:6075-1759622400-1759708740@americas.archimadrid.es
SUMMARY:XXVII DOMINGO DEL TIEMPO ORDINARIO
DESCRIPTION:
URL:https://americas.archimadrid.es/evento/xxvii-domingo-del-tiempo-ordinario-4/
END:VEVENT
BEGIN:VEVENT
DTSTART;TZID=Europe/Madrid:20251012T000000
DTEND;TZID=Europe/Madrid:20251012T235900
DTSTAMP:20260420T154851
CREATED:20250917T161753Z
LAST-MODIFIED:20250917T161753Z
UID:6076-1760227200-1760313540@americas.archimadrid.es
SUMMARY:BIENAVENTURADA VIRGEN MARÍA DEL PILAR\, fiesta
DESCRIPTION:
URL:https://americas.archimadrid.es/evento/bienaventurada-virgen-maria-del-pilar-fiesta-5/
END:VEVENT
BEGIN:VEVENT
DTSTART;TZID=Europe/Madrid:20251014T180000
DTEND;TZID=Europe/Madrid:20251014T190000
DTSTAMP:20260420T154851
CREATED:20251007T171938Z
LAST-MODIFIED:20251007T172619Z
UID:6280-1760464800-1760468400@americas.archimadrid.es
SUMMARY:Martes cultural
DESCRIPTION:
URL:https://americas.archimadrid.es/evento/martes-cultural/
CATEGORIES:Actualidad
END:VEVENT
BEGIN:VEVENT
DTSTART;TZID=Europe/Madrid:20251019T000000
DTEND;TZID=Europe/Madrid:20251019T235900
DTSTAMP:20260420T154851
CREATED:20250917T161754Z
LAST-MODIFIED:20251010T155748Z
UID:6077-1760832000-1760918340@americas.archimadrid.es
SUMMARY:XXIX DOMINGO DEL TIEMPO ORDINARIO-DOMUND
DESCRIPTION:La misión toma carne en los hombres y mujeres llamados a entregar su vida al anuncio del Evangelio. Sin ellos\, resulta imposible llevar adelante esta dimensión constitutiva de la Iglesia. Como el papa Francisco en su último Mensaje del Domund\, les decimos: “¡Gracias de corazón!”. Ante una humanidad “con frecuencia distraída e infeliz” (Francisco)\, el testimonio de la esperanza es una realidad urgente. Cristo resucitado es la fuente de nuestra Esperanza\, esa que nos pone en camino para ser testigos de Dios y de su amor en todo lugar y circunstancia. Esa esperanza\, que viene de “lo alto”\, se manifiesta en el plano horizontal como gesto de comunión entre los pueblos. Precisamente\, León XIV ha comenzado su pontificado recordándonos que Dios “nos quiere a todos unidos en una única familia”.
URL:https://americas.archimadrid.es/evento/xxix-domingo-del-tiempo-ordinario-domund-3/
END:VEVENT
BEGIN:VEVENT
DTSTART;TZID=Europe/Madrid:20251025T000000
DTEND;TZID=Europe/Madrid:20251026T235900
DTSTAMP:20260420T154851
CREATED:20250917T161739Z
LAST-MODIFIED:20250917T161739Z
UID:6074-1761350400-1761523140@americas.archimadrid.es
SUMMARY:Cursillo prematrimonial
DESCRIPTION:
URL:https://americas.archimadrid.es/evento/cursillo-prematrimonial-6/
END:VEVENT
BEGIN:VEVENT
DTSTART;TZID=Europe/Madrid:20251026T000000
DTEND;TZID=Europe/Madrid:20251026T235900
DTSTAMP:20260420T154851
CREATED:20250917T161754Z
LAST-MODIFIED:20250917T161754Z
UID:6078-1761436800-1761523140@americas.archimadrid.es
SUMMARY:XXX DOMINGO DEL TIEMPO ORDINARIO
DESCRIPTION:
URL:https://americas.archimadrid.es/evento/xxx-domingo-del-tiempo-ordinario-3/
END:VEVENT
END:VCALENDAR