BEGIN:VCALENDAR
VERSION:2.0
PRODID:-//Parroquia Nuestra Señora de las Americas - ECPv6.15.20//NONSGML v1.0//EN
CALSCALE:GREGORIAN
METHOD:PUBLISH
X-WR-CALNAME:Parroquia Nuestra Señora de las Americas
X-ORIGINAL-URL:https://americas.archimadrid.es
X-WR-CALDESC:Eventos para Parroquia Nuestra Señora de las Americas
REFRESH-INTERVAL;VALUE=DURATION:PT1H
X-Robots-Tag:noindex
X-PUBLISHED-TTL:PT1H
BEGIN:VTIMEZONE
TZID:Europe/Madrid
BEGIN:DAYLIGHT
TZOFFSETFROM:+0100
TZOFFSETTO:+0200
TZNAME:CEST
DTSTART:20240331T010000
END:DAYLIGHT
BEGIN:STANDARD
TZOFFSETFROM:+0200
TZOFFSETTO:+0100
TZNAME:CET
DTSTART:20241027T010000
END:STANDARD
BEGIN:DAYLIGHT
TZOFFSETFROM:+0100
TZOFFSETTO:+0200
TZNAME:CEST
DTSTART:20250330T010000
END:DAYLIGHT
BEGIN:STANDARD
TZOFFSETFROM:+0200
TZOFFSETTO:+0100
TZNAME:CET
DTSTART:20251026T010000
END:STANDARD
BEGIN:DAYLIGHT
TZOFFSETFROM:+0100
TZOFFSETTO:+0200
TZNAME:CEST
DTSTART:20260329T010000
END:DAYLIGHT
BEGIN:STANDARD
TZOFFSETFROM:+0200
TZOFFSETTO:+0100
TZNAME:CET
DTSTART:20261025T010000
END:STANDARD
END:VTIMEZONE
BEGIN:VEVENT
DTSTART;TZID=Europe/Madrid:20250803T000000
DTEND;TZID=Europe/Madrid:20250803T235900
DTSTAMP:20260422T150357
CREATED:20250917T161709Z
LAST-MODIFIED:20250917T161709Z
UID:6062-1754179200-1754265540@americas.archimadrid.es
SUMMARY:XVIII DOMINGO DEL TIEMPO ORDINARIO
DESCRIPTION:
URL:https://americas.archimadrid.es/evento/xviii-domingo-del-tiempo-ordinario-4/
END:VEVENT
BEGIN:VEVENT
DTSTART;TZID=Europe/Madrid:20250806T000000
DTEND;TZID=Europe/Madrid:20250806T235900
DTSTAMP:20260422T150357
CREATED:20250917T161709Z
LAST-MODIFIED:20250917T161709Z
UID:6063-1754438400-1754524740@americas.archimadrid.es
SUMMARY:TRANSFIGURACIÓN DEL SEÑOR\, fiesta
DESCRIPTION:
URL:https://americas.archimadrid.es/evento/transfiguracion-del-senor-fiesta-4/
END:VEVENT
BEGIN:VEVENT
DTSTART;TZID=Europe/Madrid:20250810T000000
DTEND;TZID=Europe/Madrid:20250810T235900
DTSTAMP:20260422T150357
CREATED:20250917T161710Z
LAST-MODIFIED:20250917T161710Z
UID:6064-1754784000-1754870340@americas.archimadrid.es
SUMMARY:XIX DOMINGO DEL TIEMPO ORDINARIO
DESCRIPTION:
URL:https://americas.archimadrid.es/evento/xix-domingo-del-tiempo-ordinario-5/
END:VEVENT
BEGIN:VEVENT
DTSTART;TZID=Europe/Madrid:20250815T000000
DTEND;TZID=Europe/Madrid:20250815T235900
DTSTAMP:20260422T150357
CREATED:20250917T161710Z
LAST-MODIFIED:20250917T161710Z
UID:6065-1755216000-1755302340@americas.archimadrid.es
SUMMARY:ASUNCIÓN DE LA BIENAVENTURADA VIRGEN MARÍA\, solemnidad
DESCRIPTION:
URL:https://americas.archimadrid.es/evento/asuncion-de-la-bienaventurada-virgen-maria-solemnidad-4/
END:VEVENT
BEGIN:VEVENT
DTSTART;TZID=Europe/Madrid:20250817T000000
DTEND;TZID=Europe/Madrid:20250817T235900
DTSTAMP:20260422T150357
CREATED:20250917T161724Z
LAST-MODIFIED:20250917T161724Z
UID:6066-1755388800-1755475140@americas.archimadrid.es
SUMMARY:XX DOMINGO DEL TIEMPO ORDINARIO
DESCRIPTION:
URL:https://americas.archimadrid.es/evento/xx-domingo-del-tiempo-ordinario-4/
END:VEVENT
BEGIN:VEVENT
DTSTART;TZID=Europe/Madrid:20250824T000000
DTEND;TZID=Europe/Madrid:20250824T235900
DTSTAMP:20260422T150357
CREATED:20250917T161724Z
LAST-MODIFIED:20250917T161724Z
UID:6067-1755993600-1756079940@americas.archimadrid.es
SUMMARY:XXI DOMINGO DEL TIEMPO ORDINARIO
DESCRIPTION:
URL:https://americas.archimadrid.es/evento/xxi-domingo-del-tiempo-ordinario-5/
END:VEVENT
BEGIN:VEVENT
DTSTART;TZID=Europe/Madrid:20250831T000000
DTEND;TZID=Europe/Madrid:20250831T235900
DTSTAMP:20260422T150357
CREATED:20250917T161724Z
LAST-MODIFIED:20250917T161724Z
UID:6068-1756598400-1756684740@americas.archimadrid.es
SUMMARY:XXII DOMINGO DEL TIEMPO ORDINARIO
DESCRIPTION:
URL:https://americas.archimadrid.es/evento/xxii-domingo-del-tiempo-ordinario-5/
END:VEVENT
END:VCALENDAR